BEGIN:VCALENDAR
VERSION:2.0
PRODID:-//RIUESS - ECPv6.15.13//NONSGML v1.0//EN
CALSCALE:GREGORIAN
METHOD:PUBLISH
X-WR-CALNAME:RIUESS
X-ORIGINAL-URL:https://riuess.org
X-WR-CALDESC:Évènements pour RIUESS
REFRESH-INTERVAL;VALUE=DURATION:PT1H
X-Robots-Tag:noindex
X-PUBLISHED-TTL:PT1H
BEGIN:VTIMEZONE
TZID:Europe/Paris
BEGIN:DAYLIGHT
TZOFFSETFROM:+0100
TZOFFSETTO:+0200
TZNAME:CEST
DTSTART:20250330T010000
END:DAYLIGHT
BEGIN:STANDARD
TZOFFSETFROM:+0200
TZOFFSETTO:+0100
TZNAME:CET
DTSTART:20251026T010000
END:STANDARD
BEGIN:DAYLIGHT
TZOFFSETFROM:+0100
TZOFFSETTO:+0200
TZNAME:CEST
DTSTART:20260329T010000
END:DAYLIGHT
BEGIN:STANDARD
TZOFFSETFROM:+0200
TZOFFSETTO:+0100
TZNAME:CET
DTSTART:20261025T010000
END:STANDARD
BEGIN:DAYLIGHT
TZOFFSETFROM:+0100
TZOFFSETTO:+0200
TZNAME:CEST
DTSTART:20270328T010000
END:DAYLIGHT
BEGIN:STANDARD
TZOFFSETFROM:+0200
TZOFFSETTO:+0100
TZNAME:CET
DTSTART:20271031T010000
END:STANDARD
END:VTIMEZONE
BEGIN:VEVENT
DTSTART;VALUE=DATE:20261103
DTEND;VALUE=DATE:20261107
DTSTAMP:20260420T133734
CREATED:20251225T155901Z
LAST-MODIFIED:20251225T155901Z
UID:6864-1793664000-1794009599@riuess.org
SUMMARY:Congrès européen des chercheurs de l’Alliance coopérative internationale 2026 à Valence du 3 au 6 novembre 2026
DESCRIPTION:L’Universitat Politècnica de València (UPV) accueillera la plus importante rencontre académique annuelle en Europe consacrée à la recherche sur les coopératives : l’ICA CCR Europe Research Conference\, ou Congrès européen des chercheurs de l’Alliance coopérative internationale (ACI). \nL’événement sera organisé par le Centre de recherche en entreprises (CEGEA) de cette université et se tiendra du 3 au 6 novembre 2026 sous le thème « Entreprises coopératives pour un progrès partagé : relever ensemble les défis mondiaux »\, en mettant l’accent sur des enjeux tels que la transformation numérique\, la transition écologique et la cohésion sociale. L’objectif est de produire des connaissances contribuant à un développement plus durable\, inclusif et démocratique de nos pays. \nLa conférence\, organisée sous le mandat du Comité de recherche coopérative (Committee on Cooperative Research – CCR) de l’ACI\, sera coordonnée par le CEGEA\, sous la responsabilité de la professeure Elena Meliá Martí (UPV/CEGEA) et du professeur Jos Bijman (ICA CCR Europe). \nL’événement devrait réunir des chercheurs\, des enseignants\, des praticiens et des responsables politiques de toute l’Europe et d’autres régions du monde afin d’explorer les tendances\, les enjeux et les perspectives actuels du secteur coopératif. Il offre une plateforme de dialogue entre la recherche et la pratique coopératives\, favorisant l’échange\, la collaboration et la diffusion de recherches de pointe sur les coopératives. \nLa langue du congrès est strictement l’anglais.
URL:https://riuess.org/event/congres-europeen-des-chercheurs-de-lalliance-cooperative-internationale-2026-a-valence-du-3-au-6-novembre-2026/
LOCATION:Universitat Politècnica de València\, Valence\, Spain
ATTACH;FMTTYPE=image/jpeg:https://riuess.org/riuess2/wp-content/uploads/2023/01/aci-coop.jpg
END:VEVENT
BEGIN:VEVENT
DTSTART;VALUE=DATE:20261120
DTEND;VALUE=DATE:20261121
DTSTAMP:20260420T133734
CREATED:20260120T184914Z
LAST-MODIFIED:20260120T192058Z
UID:6916-1795132800-1795219199@riuess.org
SUMMARY:Colloque "Regard juridique sur le financement de l'ESS" le 20 novembre 2026 à Aix-en-Provence
DESCRIPTION:L’Association de Recherche Juridique sur l’Économie Sociale et Solidaire (ARJESS) a pour vocation de contribuer à un travail de réflexion et de production scientifique universitaire et juridique sur l’ESS et ses enjeux \nAprès un colloque inaugural à Paris en 2024 sur la reconnaissance légale de l’ESS\, l’ARJESS poursuit ses travaux en organisant un colloque en 2026\, en collaboration avec la Faculté de droit et de science politique d’Aix-Marseille et son Centre de droit économique (EA 4224)\, afin de faire rayonner la recherche juridique sur l’ESS sur l’ensemble du territoire national. \nCe nouveau colloque traitera d’une question intéressant de près la pratique\, celle du financement de l’ESS. Ce financement repose sur un système mixte combinant l’épargne individuelle des particuliers\, l’épargne collective des salariés\, les fonds des institutions financières spécialisées ainsi que des ressources publiques provenant des collectivités territoriales\, de l’Etat et de l’Union européenne. La diversité de ces sources de financement induit une \nL’Association de Recherche Juridique sur l’Économie Sociale et Solidaire (ARJESS) a pour vocation de contribuer à un travail de réflexion et de production scientifique universitaire et juridique sur l’ESS et ses enjeux \nAprès un colloque inaugural à Paris en 2024 sur la reconnaissance légale de l’ESS\, l’ARJESS poursuit ses travaux en organisant un colloque en 2026\, en collaboration avec la Faculté de droit et de science politique d’Aix-Marseille et son Centre de droit économique (EA 4224)\, afin de faire rayonner la recherche juridique sur l’ESS sur l’ensemble du territoire national. \nCe nouveau colloque traitera d’une question intéressant de près la pratique\, celle du financement de l’ESS. Ce financement repose sur un système mixte combinant l’épargne individuelle des particuliers\, l’épargne collective des salariés\, les fonds des institutions financières spécialisées ainsi que des ressources publiques provenant des collectivités territoriales\, de l’Etat et de l’Union européenne. La diversité de ces sources de financement induit une diversité de réponses pour assurer l’accessibilité et la pérennité des ressources de l’ESS. \nBien que le point de vue recherché soit principalement celui du juriste\, une approche pluridisciplinaire (économie\, sciences politiques\, sciences de gestion\, etc.) peut être bienvenue \nLe colloque est prévu autour de 4 thèmes \n1- Le financement public de l’économie sociale et solidaire \n2- Les modes originaux de financement de l’économie sociale et solidaire \n3- Les modes classiques de financement adaptés aux spécificités de l’économie sociale et solidaire. \n4- Le contrôle du financement de l’économie sociale et solidaire
URL:https://riuess.org/event/colloque-regard-juridique-sur-le-financement-de-less-le-20-novembre-2026-a-aix-en-provence/
LOCATION:Aix-en-Provence
ATTACH;FMTTYPE=image/jpeg:https://riuess.org/riuess2/wp-content/uploads/2026/01/ARJESS.jpg
END:VEVENT
BEGIN:VEVENT
DTSTART;VALUE=DATE:20261125
DTEND;VALUE=DATE:20261128
DTSTAMP:20260420T133734
CREATED:20260126T170348Z
LAST-MODIFIED:20260126T170348Z
UID:6929-1795564800-1795823999@riuess.org
SUMMARY:Colloque hospitalité territoriale du 25 au 27 novembre 2026 à Orléans
DESCRIPTION:e CEDETE organise le colloque de la commission de géographie rurale du 25 au 27 novembre 2026 à l’université d’Orléans. \nLe colloque propose d’examiner le rôle des territoires ruraux dans la construction d’un développement plus solidaire\, à partir de la notion d’hospitalité territoriale. Il interroge les capacités des campagnes\, dans leur diversité\, à créer les conditions d’un « bien vivre » fondé sur l’équité\, l’inclusion et la solidarité\, au-delà des seules logiques d’attractivité. \nS’inscrivant dans les travaux du laboratoire CEDETE\, le colloque met l’accent sur les innovations sociales et territoriales portées par les habitants\, les collectivités locales et l’économie sociale et solidaire\, qui contribuent à renouveler les modalités du « faire ensemble » en milieu rural. L’hospitalité est envisagée comme une ressource territoriale permettant de valoriser les proximités\, les coopérations locales et l’accueil de populations diverses (nouveaux habitants\, publics vulnérables\, visiteurs\, résidents temporaires). \nDans les approches les formes renouvelées du développement local et solidaire
URL:https://riuess.org/event/colloque-hospitalite-territoriale-du-25-au-27-novembre-2026-a-orleans/
ATTACH;FMTTYPE=image/png:https://riuess.org/riuess2/wp-content/uploads/2026/01/cedete25_0.png
END:VEVENT
END:VCALENDAR