BEGIN:VCALENDAR
VERSION:2.0
PRODID:-//RIUESS - ECPv6.15.13//NONSGML v1.0//EN
CALSCALE:GREGORIAN
METHOD:PUBLISH
X-ORIGINAL-URL:https://riuess.org
X-WR-CALDESC:Évènements pour RIUESS
REFRESH-INTERVAL;VALUE=DURATION:PT1H
X-Robots-Tag:noindex
X-PUBLISHED-TTL:PT1H
BEGIN:VTIMEZONE
TZID:Europe/Paris
BEGIN:DAYLIGHT
TZOFFSETFROM:+0100
TZOFFSETTO:+0200
TZNAME:CEST
DTSTART:20240331T010000
END:DAYLIGHT
BEGIN:STANDARD
TZOFFSETFROM:+0200
TZOFFSETTO:+0100
TZNAME:CET
DTSTART:20241027T010000
END:STANDARD
BEGIN:DAYLIGHT
TZOFFSETFROM:+0100
TZOFFSETTO:+0200
TZNAME:CEST
DTSTART:20250330T010000
END:DAYLIGHT
BEGIN:STANDARD
TZOFFSETFROM:+0200
TZOFFSETTO:+0100
TZNAME:CET
DTSTART:20251026T010000
END:STANDARD
BEGIN:DAYLIGHT
TZOFFSETFROM:+0100
TZOFFSETTO:+0200
TZNAME:CEST
DTSTART:20260329T010000
END:DAYLIGHT
BEGIN:STANDARD
TZOFFSETFROM:+0200
TZOFFSETTO:+0100
TZNAME:CET
DTSTART:20261025T010000
END:STANDARD
END:VTIMEZONE
BEGIN:VEVENT
DTSTART;VALUE=DATE:20250101
DTEND;VALUE=DATE:20260101
DTSTAMP:20260420T125931
CREATED:20231201T200237Z
LAST-MODIFIED:20231201T200237Z
UID:6015-1735689600-1767225599@riuess.org
SUMMARY:2025 Année Internationale des Coopératives
DESCRIPTION:
URL:https://riuess.org/event/2025-annee-internationale-des-cooperatives/
END:VEVENT
BEGIN:VEVENT
DTSTART;TZID=Europe/Paris:20251015T090000
DTEND;TZID=Europe/Paris:20251015T170000
DTSTAMP:20260420T125931
CREATED:20251010T174510Z
LAST-MODIFIED:20251010T174510Z
UID:6768-1760518800-1760547600@riuess.org
SUMMARY:« Économie sociale et ancrage territorial » le 15 octobre 2025 à Saint-Jérôme/Québec
DESCRIPTION:Le colloque « Économie sociale et ancrage territorial »\, est organisé par Économie sociale Laurentides\, le 15 octobre 2025 à l’UQO\, campus Saint-Jérôme. \nPour consulter la programmation et s’inscrire\, cliquez ici.
URL:https://riuess.org/event/economie-sociale-et-ancrage-territorial-le-15-octobre-2025-a-saint-jerome-quebec/
LOCATION:Saint-Jérôme\, Quebec\, Canada
ATTACH;FMTTYPE=image/jpeg:https://riuess.org/riuess2/wp-content/uploads/2025/10/UQO.jpg
END:VEVENT
BEGIN:VEVENT
DTSTART;VALUE=DATE:20251023
DTEND;VALUE=DATE:20251025
DTSTAMP:20260420T125931
CREATED:20251010T175615Z
LAST-MODIFIED:20251010T175615Z
UID:6775-1761177600-1761350399@riuess.org
SUMMARY:Colloque "Au-delà de l’innovation sociale : le design social ?" les 23 et 24 octobre 2025\, à Montréal.
DESCRIPTION:Le colloque « Au-delà de l’innovation sociale : le design social ? » se tiendra les 23 et 24 octobre 2025 à l’ÉTS\, à Montréal\, puis les 27 et 28 octobre 2025 à l’UQO\, à Gatineau. Organisé par Valérie Yobé (UQO\, CRISES)\, Guillaume Blum (ÉTS\, CRISES) et leurs collaborateur·trice·s\, l’événement réunira des chercheur·euses\, praticien·nes et décideur·euses pour explorer le rôle du design social face aux grands défis de notre époque.\n  \nPour consulter le programme complet\, cliquez ici.
URL:https://riuess.org/event/colloque-au-dela-de-linnovation-sociale-le-design-social-les-23-et-24-octobre-2025-a-montreal/
LOCATION:Montréal\, Québec\, Canada
ATTACH;FMTTYPE=image/png:https://riuess.org/riuess2/wp-content/uploads/2021/10/Crises.png
END:VEVENT
BEGIN:VEVENT
DTSTART;VALUE=DATE:20251027
DTEND;VALUE=DATE:20251029
DTSTAMP:20260420T125931
CREATED:20251013T140115Z
LAST-MODIFIED:20251013T140115Z
UID:6811-1761523200-1761695999@riuess.org
SUMMARY:Rencontres européennes des Monnaies locales les 27 et 28 octobre 2025 à Bordeaux
DESCRIPTION:Les premières Rencontres européennes des monnaies locales complémentaires se tiendront à Bordeaux\, les lundi 27 et mardi 28 octobre 2025\, à l’Athénée municipal\, en amont du Forum mondial de l’Économie sociale et solidaire – Bordeaux GSEF 2025 \nCes Rencontres sont organisées par le Mouvement Sol (fédération française des monnaies locales)\, le Réseau des collectivités Territoriales pour une Économie Solidaire (RTES)\, la Gemme (monnaie locale de Gironde)\, avec le soutien de la Ville de Bordeaux\, en coopération avec plusieurs monnaies locales européennes\, ainsi qu’avec des réseaux nationaux tels que l’Observatori de la moneda complementària (Catalogne\, Espagne) et Financité (fédération belge des finances solidaires) et internationaux tels que Monetary Diversity – MoDi. \nProgramme à retrouver ici
URL:https://riuess.org/event/rencontres-europeennes-des-monnaies-locales-les-27-et-28-octobre-2025-a-bordeaux/
LOCATION:Bordeaux Athénée municipal\, Bordeaux\, Nouvelle Aquitaine\, France
ATTACH;FMTTYPE=image/png:https://riuess.org/riuess2/wp-content/uploads/2025/10/rencontres-monnaieslocales.png
END:VEVENT
BEGIN:VEVENT
DTSTART;VALUE=DATE:20251027
DTEND;VALUE=DATE:20251029
DTSTAMP:20260420T125931
CREATED:20251026T174128Z
LAST-MODIFIED:20251026T174128Z
UID:6825-1761523200-1761695999@riuess.org
SUMMARY:Sommet mondial de l'innovation coopérative les 27 et 28 octobre 2025 à Torres Vedras/Portugal
DESCRIPTION:Le Sommet mondial de l’innovation coopérative 2025 se tiendra à Torres Vedras\, au Portugal\, les 27 et 28 octobre. Le Sommet rassemble le mouvement coopératif et mutualiste afin d’inspirer l’innovation et d’ouvrir la voie à la mise en œuvre de nouvelles idées.* \nPlus d’infos ici (en anglais)
URL:https://riuess.org/event/sommet-mondial-de-linnovation-cooperative-les-27-et-28-octobre-2025-a-torres-vedras-portugal/
LOCATION:Torres Vedras\, Portugal
ATTACH;FMTTYPE=image/png:https://riuess.org/riuess2/wp-content/uploads/2025/10/gics.png
END:VEVENT
BEGIN:VEVENT
DTSTART;VALUE=DATE:20251027
DTEND;VALUE=DATE:20251030
DTSTAMP:20260420T125931
CREATED:20230528T091442Z
LAST-MODIFIED:20230528T091442Z
UID:5768-1761523200-1761782399@riuess.org
SUMMARY:Conférence de recherche du CIRIEC International à Bordeaux du 27 au 29 octobre 2025
DESCRIPTION:Après San José au Costa Rica  en 2021 et  Séoul en Corée du Sud en 2023 la conférence de recherche du CIRIEC International se tiendra à Bordeaux du  27 au 29 octobre 2025
URL:https://riuess.org/event/conference-de-recherche-du-ciriec-international-a-bordeaux-du-27-au-29-octobre-2025/
LOCATION:Bordeaux\, France
ATTACH;FMTTYPE=image/jpeg:https://riuess.org/riuess2/wp-content/uploads/2022/05/ciriec-int.jpg
END:VEVENT
BEGIN:VEVENT
DTSTART;VALUE=DATE:20251028
DTEND;VALUE=DATE:20251029
DTSTAMP:20260420T125931
CREATED:20251010T175941Z
LAST-MODIFIED:20251010T180508Z
UID:6778-1761609600-1761695999@riuess.org
SUMMARY:Colloque "Au-delà de l’innovation sociale : le design social ?" les 27 et 28 octobre 2025 à Gatineau/Québec
DESCRIPTION:Le colloque « Au-delà de l’innovation sociale : le design social ? » se tiendra les 23 et 24 octobre 2025 à l’ÉTS\, à Montréal\, puis les 27 et 28 octobre 2025 à l’UQO\, à Gatineau. Organisé par Valérie Yobé (UQO\, CRISES)\, Guillaume Blum (ÉTS\, CRISES) et leurs collaborateur·trice·s\, l’événement réunira des chercheur·euses\, praticien·nes et décideur·euses pour explorer le rôle du design social face aux grands défis de notre époque.\n  \nPour consulter le programme complet\, cliquez ici.
URL:https://riuess.org/event/colloque-au-dela-de-linnovation-sociale-le-design-social-les-27-et-28-octobre-2025-a-gatineau-quebec/
LOCATION:Gatineau\, Quebec\, Canada
ATTACH;FMTTYPE=image/png:https://riuess.org/riuess2/wp-content/uploads/2021/10/Crises.png
END:VEVENT
BEGIN:VEVENT
DTSTART;VALUE=DATE:20251029
DTEND;VALUE=DATE:20251101
DTSTAMP:20260420T125931
CREATED:20230528T090633Z
LAST-MODIFIED:20230528T090656Z
UID:5765-1761696000-1761955199@riuess.org
SUMMARY:Sixième forum du GSEF à Bordeaux du 29 au 31 octobre 2025
DESCRIPTION:Après Séoul en 2014\, Montréal en 2016\, Bilbao en 2018\, Mexico en 2021 et Dakar en 2023 la  sixième édition du Forum mondial de l’Économie Sociale et Solidaire\, GSEF\, aura lieu à Bordeaux du 29 au 31 octobre 2025
URL:https://riuess.org/event/sicieme-forum-du-gsef-a-bordeaux-du-29-au-31-octobrre-2025/
LOCATION:Bordeaux\, France
ATTACH;FMTTYPE=image/jpeg:https://riuess.org/riuess2/wp-content/uploads/2020/10/gsef-logo.jpg
END:VEVENT
END:VCALENDAR