BEGIN:VCALENDAR
VERSION:2.0
PRODID:-//RIUESS - ECPv6.15.13//NONSGML v1.0//EN
CALSCALE:GREGORIAN
METHOD:PUBLISH
X-WR-CALNAME:RIUESS
X-ORIGINAL-URL:https://riuess.org
X-WR-CALDESC:Évènements pour RIUESS
REFRESH-INTERVAL;VALUE=DURATION:PT1H
X-Robots-Tag:noindex
X-PUBLISHED-TTL:PT1H
BEGIN:VTIMEZONE
TZID:Europe/Paris
BEGIN:DAYLIGHT
TZOFFSETFROM:+0100
TZOFFSETTO:+0200
TZNAME:CEST
DTSTART:20240331T010000
END:DAYLIGHT
BEGIN:STANDARD
TZOFFSETFROM:+0200
TZOFFSETTO:+0100
TZNAME:CET
DTSTART:20241027T010000
END:STANDARD
BEGIN:DAYLIGHT
TZOFFSETFROM:+0100
TZOFFSETTO:+0200
TZNAME:CEST
DTSTART:20250330T010000
END:DAYLIGHT
BEGIN:STANDARD
TZOFFSETFROM:+0200
TZOFFSETTO:+0100
TZNAME:CET
DTSTART:20251026T010000
END:STANDARD
BEGIN:DAYLIGHT
TZOFFSETFROM:+0100
TZOFFSETTO:+0200
TZNAME:CEST
DTSTART:20260329T010000
END:DAYLIGHT
BEGIN:STANDARD
TZOFFSETFROM:+0200
TZOFFSETTO:+0100
TZNAME:CET
DTSTART:20261025T010000
END:STANDARD
END:VTIMEZONE
BEGIN:VEVENT
DTSTART;VALUE=DATE:20250101
DTEND;VALUE=DATE:20260101
DTSTAMP:20260420T211205
CREATED:20231201T200237Z
LAST-MODIFIED:20231201T200237Z
UID:6015-1735689600-1767225599@riuess.org
SUMMARY:2025 Année Internationale des Coopératives
DESCRIPTION:
URL:https://riuess.org/event/2025-annee-internationale-des-cooperatives/
END:VEVENT
BEGIN:VEVENT
DTSTART;TZID=Europe/Paris:20250507T170000
DTEND;TZID=Europe/Paris:20250507T200000
DTSTAMP:20260420T211205
CREATED:20250224T150320Z
LAST-MODIFIED:20250511T153335Z
UID:6591-1746637200-1746648000@riuess.org
SUMMARY:Séminaire «ESS et Colonialisme» :  Les bureaux de bienfaisance musulmans en Algérie le 7 mai 2025 à Paris
DESCRIPTION:  \nLe Cédias-Musée Social poursuit ses séminaires sur l’Histoire de l’ESS. \nCette année le thème est « ESS et Colonialisme » \nAu programme Mercredi 7 mai 2025 \n« Les premiers socialismes français et britannique face aux régimes de propriété des sociétés traditionnelles : théories et pratiques » \nPar Lucas Privet \n« Saint-Simonisme et colonialisme : la vision de Michel Chevalier pour l’Algérie » \nPar Teddy Paikin \nLes séances seront programmées à 17h et des invitations seront adressées à chacune d’entre elles. \nChaque séance sera enregistrée et mise en ligne sur notre site au titre de nos productions historiques.
URL:https://riuess.org/event/seminaire-ess-et-colonialisme-les-bureaux-de-bienfaisance-musulmans-en-algerie-le-7-mai-2025-a-paris/
LOCATION:Cedias\, 5 rue Las Cases\, Paris 7\, Ile de France\, 75007\, France
ATTACH;FMTTYPE=image/jpeg:https://riuess.org/riuess2/wp-content/uploads/2023/11/cedias-1.jpg
END:VEVENT
BEGIN:VEVENT
DTSTART;TZID=Europe/Paris:20250522T160000
DTEND;TZID=Europe/Paris:20250522T180000
DTSTAMP:20260420T211205
CREATED:20250301T183123Z
LAST-MODIFIED:20250301T183123Z
UID:6621-1747929600-1747936800@riuess.org
SUMMARY:Atelier-débat L'ESS par les femmes\, pour les femmes ?  le 22 mai 2025 à Villeneuve d'Ascq
DESCRIPTION:La ChairESS organise un atelier-débat sur le thème « l’ESS\, une économie autrement\, par les femmes? pour les femmes?«  avec les contributions de : \n\nFlorence Degrave\, Socio-économiste\, Université de Louvain\nFrançois-Xavier Devetter\, Socio-économiste\, Université de Lille\nSophie Cauwet\, présidente de CoHose\nJean-Paul Moutiez\, directeur de l’association Galilée\n\n 
URL:https://riuess.org/event/atelier-debat-less-par-les-femmes-pour-les-femmes-le-22-mai-2025-a-villeneuve-dascq/
LOCATION:Cité scientifique Villeneuve d’Ascq\, Hauts de France\, France
ATTACH;FMTTYPE=image/png:https://riuess.org/riuess2/wp-content/uploads/2019/06/ChairESS_512.png
END:VEVENT
BEGIN:VEVENT
DTSTART;TZID=Europe/Paris:20250522T160000
DTEND;TZID=Europe/Paris:20250522T180000
DTSTAMP:20260420T211205
CREATED:20250517T165105Z
LAST-MODIFIED:20250517T165105Z
UID:6656-1747929600-1747936800@riuess.org
SUMMARY:« L'ESS par les femmes? pour les femmes? » Atelier-débat de la chairESS Hauts-de-Francele 22mai 2025
DESCRIPTION:La chairESS des Hauts-de-France organise un atelier-débat croisant les regards des chercheur·es et acteurs et actrices de l’ESS inspirant·es autour de projets de recherches universitaires et de témoignages d’expérimentations\, avec les contributions de :\n* Florence Degavre\, socio-économiste\, professeure à l’UCLouvain – Université catholique de Louvain présentera « Compter (sur) les femmes et la diversité en ESS : défis théoriques et empiriques ».\n* François-Xavier Devetter\, socio-économiste\, professeur à l’Université de Lille\, chercheur à l’IRES abordera « Le secteur associatif\, un secteur moins inégalitaire entre femmes et hommes ? ».\n* Sophie CAUWET\, présidente fondatrice de CoHose\, facilitateurs d’aventures solidaires interviendra sur « L’entrepreneuriat féminin en ESS : un défi personnel et une voie de réalisation professionnelle qui servent le mieux commun ».\n* Jean-Paul Moutiez\, directeur de l’Association Galilée partagera «  FemmESS». Elles sont porteuses de projets\, bénévoles ou salarié de l’ESS. Pourquoi ont-elles choisi l’ESS ? Quels sont leurs vécus\, leurs observations et leurs propositions ? \n Salle des conférences\, bâtiment SH2\, Cité Scientifique\, Villeneuve d’Ascq\n️ Le 22 mai 2025\, de 16h à 18h
URL:https://riuess.org/event/less-par-les-femmes-pour-les-femmes-atelier-debat-de-la-chairess-hauts-de-francele-22mai-2025/
LOCATION:bâtiment SH2\, Cité Scientifique\, Villeneuve d’Ascq\, Hauts de France\, France
ATTACH;FMTTYPE=image/png:https://riuess.org/riuess2/wp-content/uploads/2022/05/ChairESS_512.png
END:VEVENT
BEGIN:VEVENT
DTSTART;TZID=Europe/Paris:20250523T140000
DTEND;TZID=Europe/Paris:20250523T160000
DTSTAMP:20260420T211205
CREATED:20250517T171059Z
LAST-MODIFIED:20250517T171059Z
UID:6659-1748008800-1748016000@riuess.org
SUMMARY:Séminaire de l’UMR Triangle : "Capitalismes : transitions\, bifurcations\, effondrement" le 23 mai 2025 à Lyon
DESCRIPTION:Le vendredi 23 mai prochain de 14 heures à 16 heures\, se tiendra la dernière séance de l’année du séminaire du pôle Economies politiques de l’UMR Triangle : « Capitalismes : transitions\, bifurcations\, effondrement. » \n\nElle accueillera Bruno Théret (DR CNRS\, UMR IRISSO) pour une intervention intitulée « L’institutionnalisme pragmatiste commonsien comme archive et ressource commune pour les courants hétérodoxes actuels d’économie politique : un focus sur les liens analytiques entre Commons\, Polanyi et Proudhon. »\n\nLa séance se tiendra s à Sciences Po Lyon (bâtiment pédagogique rue Appleton\, salle 2.02).
URL:https://riuess.org/event/seminaire-de-lumr-triangle-capitalismes-transitions-bifurcations-effondrement-le-23-mai-2025-a-lyon/
LOCATION:Sciences Po Lyon\, 10 ruelle du Grand casernement\,\, Lyon 7\, 69007\, France
ATTACH;FMTTYPE=image/jpeg:https://riuess.org/riuess2/wp-content/uploads/2025/05/triangleUMR.jpg
END:VEVENT
BEGIN:VEVENT
DTSTART;VALUE=DATE:20250526
DTEND;VALUE=DATE:20250529
DTSTAMP:20260420T211205
CREATED:20231217T205616Z
LAST-MODIFIED:20241008T065216Z
UID:6073-1748217600-1748476799@riuess.org
SUMMARY:XXIV èmes Rencontres du RIUESS du 26 au 28 mai 2025 à Lyon
DESCRIPTION:AAC RIUESS 2025[78]
URL:https://riuess.org/event/xxiv-emes-rencontres-du-riuess-du-26-au-28-mai-2025-a-lyon/
LOCATION:Lyon\, France
ATTACH;FMTTYPE=image/jpeg:https://riuess.org/riuess2/wp-content/uploads/2023/11/riuess_logo3.jpg
END:VEVENT
END:VCALENDAR