BEGIN:VCALENDAR
VERSION:2.0
PRODID:-//RIUESS - ECPv6.15.13//NONSGML v1.0//EN
CALSCALE:GREGORIAN
METHOD:PUBLISH
X-WR-CALNAME:RIUESS
X-ORIGINAL-URL:https://riuess.org
X-WR-CALDESC:Évènements pour RIUESS
REFRESH-INTERVAL;VALUE=DURATION:PT1H
X-Robots-Tag:noindex
X-PUBLISHED-TTL:PT1H
BEGIN:VTIMEZONE
TZID:Europe/Paris
BEGIN:DAYLIGHT
TZOFFSETFROM:+0100
TZOFFSETTO:+0200
TZNAME:CEST
DTSTART:20240331T010000
END:DAYLIGHT
BEGIN:STANDARD
TZOFFSETFROM:+0200
TZOFFSETTO:+0100
TZNAME:CET
DTSTART:20241027T010000
END:STANDARD
BEGIN:DAYLIGHT
TZOFFSETFROM:+0100
TZOFFSETTO:+0200
TZNAME:CEST
DTSTART:20250330T010000
END:DAYLIGHT
BEGIN:STANDARD
TZOFFSETFROM:+0200
TZOFFSETTO:+0100
TZNAME:CET
DTSTART:20251026T010000
END:STANDARD
BEGIN:DAYLIGHT
TZOFFSETFROM:+0100
TZOFFSETTO:+0200
TZNAME:CEST
DTSTART:20260329T010000
END:DAYLIGHT
BEGIN:STANDARD
TZOFFSETFROM:+0200
TZOFFSETTO:+0100
TZNAME:CET
DTSTART:20261025T010000
END:STANDARD
END:VTIMEZONE
BEGIN:VEVENT
DTSTART;VALUE=DATE:20250101
DTEND;VALUE=DATE:20260101
DTSTAMP:20260421T005457
CREATED:20231201T200237Z
LAST-MODIFIED:20231201T200237Z
UID:6015-1735689600-1767225599@riuess.org
SUMMARY:2025 Année Internationale des Coopératives
DESCRIPTION:
URL:https://riuess.org/event/2025-annee-internationale-des-cooperatives/
END:VEVENT
BEGIN:VEVENT
DTSTART;TZID=Europe/Paris:20250305T170000
DTEND;TZID=Europe/Paris:20250305T200000
DTSTAMP:20260421T005457
CREATED:20250224T145007Z
LAST-MODIFIED:20250302T152704Z
UID:6585-1741194000-1741204800@riuess.org
SUMMARY:Séminaire «ESS et Colonialisme» : les mutuelles de santé au Sénégal le 5 mars 2025 à Paris
DESCRIPTION:Le Cédias-Musée Social poursuit ses séminaires sur l’Histoire de l’ESS. \nCette année le thème est « ESS et Colonialisme » \nMercredi 5 mars 2025 : Les mutuelles de santé au Sénégal (1910-1950) par Valéry Ridde \nLes séances seront programmées à 17h et des invitations seront adressées à chacune d’entre elles. \nChaque séance sera enregistrée et mise en ligne sur notre site au titre de nos productions historiques. \nRésumé : Alors que le Sénégal a fait reposer sa politique contemporaine de protection sociale et de santé sur les mutuelles communautaires (2010-2022)\, les historiens de la santé ne se sont pas encore penchés sur ce sujet. Cette étude est une analyse historique de l’émergence des mutuelles de santé durant la période coloniale française. Elles s’inscrivent dans les instruments coloniaux\, les premières mutuelles sont apparues dès les années 1910. Elles étaient impulsées par l’administration\, couvraient un très faible nombre de personnes\, surtout des colons et l’administration coloniale. Elles ne semblent pas avoir perduré\, laissant penser que l’administration française n’a pas impulsé les mêmes réformes de la sécurité sociale qu’elle organisait en « métropole ».
URL:https://riuess.org/event/seminaire-ess-et-colonialisme-les-mutuelles-de-sante-au-senegal-le-5-mars-2025-a-paris/
LOCATION:Cedias\, 5 rue Las Cases\, Paris 7\, Ile de France\, 75007\, France
ATTACH;FMTTYPE=image/jpeg:https://riuess.org/riuess2/wp-content/uploads/2023/11/cedias-1.jpg
END:VEVENT
BEGIN:VEVENT
DTSTART;TZID=Europe/Paris:20250306T180000
DTEND;TZID=Europe/Paris:20250306T200000
DTSTAMP:20260421T005457
CREATED:20250301T182430Z
LAST-MODIFIED:20250301T182430Z
UID:6617-1741284000-1741291200@riuess.org
SUMMARY:Conférence de Benoît Hamon « Quel avenir pour l’ESS ? » le 6 mars 2025 à Lille
DESCRIPTION:Benoît Hamon\,  Président d’ESS France\, est invité pour une conférence exceptionnelle sur les perspectives de l’Économie Sociale et Solidaire (ESS) intitulée : « Quel avenir pour l’ESS ? » par le Master Management des Organisations de l’ESS (M2 ManOESS) de la mention Management de l’innovation de l’IAE de Lille \nJeudi 6 mars de 18 heures à 20 heures à l’IAE de Lille – Site Vieux Lille (104 av. du Peuple Belge\, Lille)\, Amphithéâtre Pierre Mauroy
URL:https://riuess.org/event/conference-de-benoit-hamon-quel-avenir-pour-less-le-6-mars-2025-a-lille/
LOCATION:IAE Lille – Site Vieux Lille\, 104 avenue du Peuple Belge\, Lille\, Hauts de France\, 59000\, France
ATTACH;FMTTYPE=image/png:https://riuess.org/riuess2/wp-content/uploads/2025/03/iae-lille.png
END:VEVENT
BEGIN:VEVENT
DTSTART;VALUE=DATE:20250313
DTEND;VALUE=DATE:20250315
DTSTAMP:20260421T005457
CREATED:20250224T183922Z
LAST-MODIFIED:20250224T183922Z
UID:6610-1741824000-1741996799@riuess.org
SUMMARY:Atelier « De Crésus à Nakamoto\, comment les monnaies émergent : entre pratique et théorie » les 13 et 14 mars 2025 à Lyon
DESCRIPTION:Des journées d’études  organisées avec le soutien de Sciences Po Lyon\, de Triangle\, de l’AFEP et du CLERSE se tiendront à Lyon les 13 et 14 mars 2025 sur le thème « De Cresus à Nakamoto\, comment les monnaies émergent : entre pratique et théorie » \nJeudi 13 en anglais (sauf présentation du livre de Jean-Michel Servet)\, vendredi 14 en français. \nCertaines présentations traiteront plus spécifiquement de monnaies locales et complémentaires (LETS\, Eusko\, Sol\, Tikatsou)\, \nDu 13 mars 2025 : 09h30 – 14 mars 2025 : 17h15  à Sciences Po Lyon\, 10 ruelle du Grand casernement\, 69007 Lyon \nAccessible en ligne  via ce lien Teams . \n 
URL:https://riuess.org/event/atelier-de-cresus-a-nakamoto-comment-les-monnaies-emergent-entre-pratique-et-theorie-les-13-et-14-mars-2025-a-lyon/
LOCATION:Sciences Po Lyon\, 10 ruelle du Grand casernement\,\, Lyon 7\, 69007\, France
ATTACH;FMTTYPE=image/jpeg:https://riuess.org/riuess2/wp-content/uploads/2025/02/cresus.jpg
END:VEVENT
BEGIN:VEVENT
DTSTART;TZID=Europe/Paris:20250313T170000
DTEND;TZID=Europe/Paris:20250313T210000
DTSTAMP:20260421T005457
CREATED:20241028T184526Z
LAST-MODIFIED:20241028T184654Z
UID:6436-1741885200-1741899600@riuess.org
SUMMARY:Nuit des étudiants solidaires : remise des prix des mémoires de l'ESS le 13 mars 2025
DESCRIPTION:Le Prix des Mémoires de l’ESS récompense chaque année des travaux de mémoire (de L3\, M1 ou M2 en formation initiale ou continue) dont les sujets portent sur un enjeu relatif à l’Économie Sociale et Solidaire. \nLes prix seront remis le 13 mars 2025  durant la Nuit des Étudiants solidaires
URL:https://riuess.org/event/nuit-des-etudiants-solidaires-remise-des-prix-des-memoires-de-less-le-13-mars-2025/
ATTACH;FMTTYPE=image/jpeg:https://riuess.org/riuess2/wp-content/uploads/2019/12/cjdes.jpg
END:VEVENT
BEGIN:VEVENT
DTSTART;TZID=Europe/Paris:20250318T083000
DTEND;TZID=Europe/Paris:20250318T173000
DTSTAMP:20260421T005457
CREATED:20250224T180124Z
LAST-MODIFIED:20250224T180124Z
UID:6600-1742286600-1742319000@riuess.org
SUMMARY:Conférence «Favoriser la prospérité et la transformation industrielle de l'Europe : Les coopératives en tant que moteurs du changement» le 18 mars 2025 à Bruxelles
DESCRIPTION:Le 18 mars 2025\, la Commission européenne organisera une conférence sur les coopératives en tant qu’acteurs clés du renforcement de la résilience économique et de la cohésion sociale dans l’Union européenne. L’événement comprendra plusieurs sessions plénières et ateliers destinés à favoriser le dialogue entre les représentants des coopératives\, les universitaires et les décideurs politiques. Ces discussions porteront sur la manière dont le modèle coopératif peut contribuer à une économie plus prospère et plus durable dans l’Union européenne. \nLe programme (en anglais)
URL:https://riuess.org/event/conference-favoriser-la-prosperite-et-la-transformation-industrielle-de-leurope-les-cooperatives-en-tant-que-moteurs-du-changement-le-18-mars-2025-a-bruxelles/
LOCATION:La Vallée\, Rue Adolphe Lavallée 39\, à Bruxelles.\, Belgium
ATTACH;FMTTYPE=image/png:https://riuess.org/riuess2/wp-content/uploads/2025/02/europe-commission.png
END:VEVENT
BEGIN:VEVENT
DTSTART;VALUE=DATE:20250319
DTEND;VALUE=DATE:20250320
DTSTAMP:20260421T005457
CREATED:20241222T183157Z
LAST-MODIFIED:20241222T183157Z
UID:6523-1742342400-1742428799@riuess.org
SUMMARY:Journée thématique "Intermédiations énergétiques : régulations et territorialités à la lumière des sciences sociales"
DESCRIPTION:Organisé sur le campus de l’Université Grenoble-Alpes\, le séminaire  Intermédiations énergétiques : régulations et territorialités à la lumière des sciences sociales questionnera les effets d’évolutions récentes dans le champ de l’énergie. En mobilisant des travaux en aménagements\, urbanisme\, droit\, géographie\, sociologie et économie\, il s’agira d’abord de mieux comprendre les pratiques professionnelles d’acteurs de l’intermédiation énergétique souvent invisibles (opérateurs de réseaux ou territoriaux\, coopératives énergétiques\, etc). Ensuite\, cette journée  questionnera leurs rôles dans la régulation du secteur en termes de justice énergétique et de territorialité. Ces moments de partage consacrés à la mise en débats des recherches en SHS\, s’achèveront sur une table ronde.  Chercheurs et institutionnels partageront leurs expériences d’articulation des processus de productions scientifiques aux enjeux techniques et sociaux du secteur énergétique contemporain. \nCette journée sera l’occasion d’identifier les résultats saillants et des questions porteuses dans le champ des SHS sur la thématique. Elle aura vocation aussi à encourager l’émergence de collaborations scientifiques inter-disciplines. Ce séminaire est principalement destiné à tous les chercheurs en sciences sociales (droit\, sociologie\, économie\, sciences politiques\, histoire\, etc) qui étudient la transition énergétique.
URL:https://riuess.org/event/journee-thematique-intermediations-energetiques-regulations-et-territorialites-a-la-lumiere-des-sciences-sociales/
LOCATION:MACI Saint-Martibn-d’Hères\, 339 Avenue Centrale\,\, Saint-Martin-d'Hères\, Rhône-Alpes\, 38400\, France
ATTACH;FMTTYPE=image/jpeg:https://riuess.org/riuess2/wp-content/uploads/2019/03/univ-grenoble.jpg
END:VEVENT
BEGIN:VEVENT
DTSTART;VALUE=DATE:20250320
DTEND;VALUE=DATE:20250323
DTSTAMP:20260421T005457
CREATED:20240811T171024Z
LAST-MODIFIED:20240811T171024Z
UID:6319-1742428800-1742687999@riuess.org
SUMMARY:Printemps des Humanités « Universel(s) ? » du 20 au 22 mars 2025 au campus Condorcet
DESCRIPTION:Le Printemps des Humanités ouvre un espace de débat et de partage des savoirs issus de la recherche traitant des préoccupations et des enjeux publics de notre époque\, désireux de manifester et de donner à voir l’ancrage des sciences humaines et sociales dans la Cité. \nLe thème de cette deuxième édition sera « Universel(s) ? ». \nIntergénérationnel et interculturel\, le Printemps des Humanité intègre autant les enjeux nationaux et internationaux que les spécificités\, les problématiques locales. Dans une dynamique participative et festive\, cet événement\, ouvert à toutes et tous\, offre un espace de parole et d’action à tous les participants à travers l’expérimentation de nouvelles formes de discussions et de débats\, ainsi que d’activités artistiques et culturelles \nL’appel à propositions ici \nRéponse pour le 30 septembre 2024
URL:https://riuess.org/event/printemps-des-humanites-universels-du-20-au-22-mars-2025-au-campus-condorcet/
LOCATION:Campus Condorcet\, Aubervilliers\, Ile de France\, 93300\, France
ATTACH;FMTTYPE=image/png:https://riuess.org/riuess2/wp-content/uploads/2024/08/Condorcet_Sante-et-creation_declinaisons-couleur-1.png
END:VEVENT
BEGIN:VEVENT
DTSTART;TZID=Europe/Paris:20250321T140000
DTEND;TZID=Europe/Paris:20250321T180000
DTSTAMP:20260421T005457
CREATED:20250119T184642Z
LAST-MODIFIED:20250119T185225Z
UID:6564-1742565600-1742580000@riuess.org
SUMMARY:Journée d’étude en l’honneur de Denis Clerc le 21 mars 2025 à Villeneuve d'Ascq
DESCRIPTION:Un colloque en l’honneur de Denis Clerc est co-organisé par Florence Jany-Catrice et Richard Sobel le 21 mars 2025 à Lille. \nDes intervenantes et intervenants de très grande qualité\, Christian Chavagneux\, Jézabel Couppey-Soubeyran\, Benoit Hamon\, Agnès Labrousse et Aurore Lalucq\, interviendront sur le thème « Quelle utilité des économiste non conformistes au XXIème siècle? » \nAvec le soutien de la chaire EQAM de l’université de Rouen Normandie\, de la chaire SEC et du Clersé de l’université de Lille et de la ChairESS Hauts-de-France. \nLes inscriptions sont ouvertes jusqu’au 30 janvier : https://framaforms.org/journee-detude-en-lhonneur-de-denis-clerc-21-mars-2025-1731407869 
URL:https://riuess.org/event/journee-detude-en-lhonneur-de-denis-clerc-le-21-mars-2025-a-villeneuve-dascq/
ATTACH;FMTTYPE=image/png:https://riuess.org/riuess2/wp-content/uploads/2025/01/12hIcwZ47sNR.png
END:VEVENT
BEGIN:VEVENT
DTSTART;VALUE=DATE:20250324
DTEND;VALUE=DATE:20250403
DTSTAMP:20260421T005457
CREATED:20250125T160755Z
LAST-MODIFIED:20250125T160755Z
UID:6577-1742774400-1743638399@riuess.org
SUMMARY:Espagne : Semaine universitaire de l'économie sociale du 24 mars au 2 avril 2025
DESCRIPTION:Les Centres\, Instituts\, Chaires et autres structures de recherche en économie sociale sont invités à participer à  la sixième Semaine universitaire de l’économie sociale\, qui se tiendra du 24 mars au 2 avril 2025\, inclus. \nChaque centre universitaire peut organiser plusieurs activités en fonction de ses objectifs\, de ses ressources et de ses disponibilités. Il est possible de programmer des conférences\, tables rondes\, expositions\, présentations de livres ou de résultats de projets de recherche\, ateliers ou formations spécifiques\, entre autres. L’objectif est de faire venir l’économie sociale à l’Université et vice versa\, en montrant ce que l’Université fait pour l’économie sociale. À cet effet\, le Réseau ENUIES invite tous les acteurs de l’économie sociale à participer activement à la #SemanaUniversitariaES.
URL:https://riuess.org/event/espagne-semaine-universitaire-de-leconomie-sociale-du-24-mars-au-2-avril-2025/
LOCATION:Espagne
ATTACH;FMTTYPE=image/jpeg:https://riuess.org/riuess2/wp-content/uploads/2023/02/semanaUniverssataria-2023.jpg
END:VEVENT
BEGIN:VEVENT
DTSTART;VALUE=DATE:20250325
DTEND;VALUE=DATE:20250326
DTSTAMP:20260421T005457
CREATED:20250301T184317Z
LAST-MODIFIED:20250303T091501Z
UID:6626-1742860800-1742947199@riuess.org
SUMMARY:Journée d'étude du réseau prospectif RESTEZ à Paris le 25 mars 2025.
DESCRIPTION:Une journée d’étude du réseau prospectif RESTEZ \, Recherches sur les Expérimentations Sociales et Territoriales\, est organisée à Paris le 25 mars 2025. \nCette journée\, ouverte aux membres du réseau et à des représentants des terrains étudiés\, sera consacrée à la présentation des résultats intermédiaires des deux projets de recherche\, ACME et DYNAMIT et à des échanges autour des perspectives du réseau. \nLes deux projets de recherche ACME et DYNAMIT ont été attribués à des équipes de recherche du réseau RESTEZ\, dans le cadre de l’appel à projet  « Territoire Zéro Chômeur de Longue Durée : une solution adaptée à la privation durable d’emploi? » de la DARES. \nLe programme
URL:https://riuess.org/event/journee-detude-du-reseau-prospectif-restez-a-paris-le-25-mars-2025/
ATTACH;FMTTYPE=image/png:https://riuess.org/riuess2/wp-content/uploads/2025/03/Recherche-sur-les-Experimentations-Sociales-et-TErritoriales-TZC-2-e1699266098463-1038x576-1.png
END:VEVENT
BEGIN:VEVENT
DTSTART;TZID=Europe/Paris:20250327T160000
DTEND;TZID=Europe/Paris:20250327T180000
DTSTAMP:20260421T005457
CREATED:20250224T192259Z
LAST-MODIFIED:20250224T192259Z
UID:6614-1743091200-1743098400@riuess.org
SUMMARY:Table-ronde « Inégalités du champ à l’assiette : identifier les mécanismes pour mieux agir » le 27 mars 2025 à Lyon
DESCRIPTION:Territoire à Vivre et Bellebouffe organisent le 27 mars 2025 de 16 heures à 18 heures dans l’amphi Benveniste\, en partenariat avec la chaire ESS de l’Université de Lyon\, une table-ronde «Inégalités du champ à l’assiette : identifier les mécanismes pour mieux agi ». \nDe la fourche à la fourchette\, de nombreuses injustices perdurent et s’amplifient. Comment les expliquer ? Quelles formes prennent-elles ? Quelles conséquences ont-elles ? Comment agir dessus ? \nCette table ronde se propose d’interroger les injustices alimentaires à l’aune de rapports sociaux à travers un dialogue entre différentes personnalités qui agissent\, à leur manière\, dans la réduction des inégalités. Ce moment d’échange et de partage sera également l’occasion de réfléchir à la façon dont nous pouvons collectivement contribuer à la lutte contre les injustices et discriminations qui s’exercent dans nos systèmes alimentaires. \nAvec \n\nNora Bouazouni (journaliste et autrice de Manger les riches\, la lutte des classes passe par l’assiette)\nSandrine Boireau\, (paysanne en AMAP\, à Chaussan dans les monts du lyonnais)\nMartine Laville (professeure émerite\, co-rédactrice du rapport: Mieux prévenir l’obésité en France)\n\nPour s’inscrire\,  cliquez-ici
URL:https://riuess.org/event/table-ronde-inegalites-du-champ-a-lassiette-identifier-les-mecanismes-pour-mieux-agir-le-27-mars-2025-a-lyon/
LOCATION:Lyon\, France
ATTACH;FMTTYPE=image/png:https://riuess.org/riuess2/wp-content/uploads/2019/03/univ-lyon2.png
END:VEVENT
BEGIN:VEVENT
DTSTART;VALUE=DATE:20250328
DTEND;VALUE=DATE:20250329
DTSTAMP:20260421T005457
CREATED:20250224T180651Z
LAST-MODIFIED:20250224T180708Z
UID:6605-1743120000-1743206399@riuess.org
SUMMARY:Les coopératives de service public le 28 Mars 2025 à Bordeaux
DESCRIPTION:La coopérative de service public combine indépendance des pouvoirs publics\, responsabilité financière et réinvestissement des profits dans l’intérêt général\, évitant ainsi les dérives liées aux monopoles\, comme dans le cas des autoroutes. Elle se distingue par son modèle démocratique et égalitaire\, offrant aux usagers un rôle actif\, notamment dans le capital\, contrairement aux structures publiques ou commerciales classiques. Historiquement\, les coopératives ont rempli des fonctions de service public\, notamment au 19ᵉ siècle\, où le monde ouvrier a développé des services collectifs sans intervention de l’État\, comme l’ont illustré les coopérateurs de Rochdale. \nThématiques abordées: \n\nL’histoire de la coopérative et la fourniture de services d’intérêt général\nLes coopératives et les activités d’intérêt général à l’étranger\nLes coopératives et les activités d’intérêt général en France
URL:https://riuess.org/event/les-cooperatives-de-service-public-le-28-mars-2025-a-bordeaux/
LOCATION:Sciences Po Bordeaux\, 11 allée Ausone\, Pessac\, Nouvelle Aquitaine\, 33600\, France
ATTACH;FMTTYPE=image/png:https://riuess.org/riuess2/wp-content/uploads/2022/01/sciencespo-bordeaux.png
END:VEVENT
END:VCALENDAR