BEGIN:VCALENDAR
VERSION:2.0
PRODID:-//RIUESS - ECPv6.15.13//NONSGML v1.0//EN
CALSCALE:GREGORIAN
METHOD:PUBLISH
X-WR-CALNAME:RIUESS
X-ORIGINAL-URL:https://riuess.org
X-WR-CALDESC:Évènements pour RIUESS
REFRESH-INTERVAL;VALUE=DURATION:PT1H
X-Robots-Tag:noindex
X-PUBLISHED-TTL:PT1H
BEGIN:VTIMEZONE
TZID:Europe/Paris
BEGIN:DAYLIGHT
TZOFFSETFROM:+0100
TZOFFSETTO:+0200
TZNAME:CEST
DTSTART:20240331T010000
END:DAYLIGHT
BEGIN:STANDARD
TZOFFSETFROM:+0200
TZOFFSETTO:+0100
TZNAME:CET
DTSTART:20241027T010000
END:STANDARD
BEGIN:DAYLIGHT
TZOFFSETFROM:+0100
TZOFFSETTO:+0200
TZNAME:CEST
DTSTART:20250330T010000
END:DAYLIGHT
BEGIN:STANDARD
TZOFFSETFROM:+0200
TZOFFSETTO:+0100
TZNAME:CET
DTSTART:20251026T010000
END:STANDARD
BEGIN:DAYLIGHT
TZOFFSETFROM:+0100
TZOFFSETTO:+0200
TZNAME:CEST
DTSTART:20260329T010000
END:DAYLIGHT
BEGIN:STANDARD
TZOFFSETFROM:+0200
TZOFFSETTO:+0100
TZNAME:CET
DTSTART:20261025T010000
END:STANDARD
END:VTIMEZONE
BEGIN:VEVENT
DTSTART;VALUE=DATE:20250101
DTEND;VALUE=DATE:20260101
DTSTAMP:20260421T025310
CREATED:20231201T200237Z
LAST-MODIFIED:20231201T200237Z
UID:6015-1735689600-1767225599@riuess.org
SUMMARY:2025 Année Internationale des Coopératives
DESCRIPTION:
URL:https://riuess.org/event/2025-annee-internationale-des-cooperatives/
END:VEVENT
BEGIN:VEVENT
DTSTART;VALUE=DATE:20250204
DTEND;VALUE=DATE:20250205
DTSTAMP:20260421T025310
CREATED:20241125T173610Z
LAST-MODIFIED:20250119T190747Z
UID:6458-1738627200-1738713599@riuess.org
SUMMARY:Journées de l'AES "Économie sociale\, vieillesses et vieillissements" : date limite des propositions de communication le 4 février 2025
DESCRIPTION:Les 44èmes journées de l’Association d’Économie Sociale organisées par l’Université de Reims Champagne-Ardenne (Campus de Châlons-en-Champagne) se dérouleront les 11 et 12 septembre 2025. \nElles auront pour thème central « Économie sociale\, vieillesses et vieillissements ». \nLes cinq axes principaux de communication sont \n\nAxe 1. L’approche par les parcours de vieillissement : diversité\, individualisation\,\ndéterminants.\nAxe 2. L’accompagnement des personnes âgées : place des aidantes et aidants et\nproblématiques de genre\, logement et maintien à domicile\, structures d’hébergement\nspécialisées.\nAxe 3. L’analyse des politiques publiques de la vieillesse et du vieillissement :\njustifications\, problématisation\, publics.\nAxe 4. Les différents niveaux de l’action publique : centralisme\, territoires\, adaptation.\nAxe 5. Mesurer les effets des « réformes » en matière de prise en charge de la vieillesse et\ndu vieillissement : méthode\, expérimentation\, résultats.\n\nCes projets seront exclusivement soumis par voie électronique avant le 4 février 2025\nà l’adresse du colloque : aes2025@univ-reims.fr
URL:https://riuess.org/event/journees-de-laes-economie-sociale-vieillesses-et-vieillissements-date-limite-des-propositions-de-communication-le-13-janvier-2025/
ATTACH;FMTTYPE=image/png:https://riuess.org/riuess2/wp-content/uploads/2019/03/aes.png
END:VEVENT
BEGIN:VEVENT
DTSTART;TZID=Europe/Paris:20250204T170000
DTEND;TZID=Europe/Paris:20250204T203000
DTSTAMP:20260421T025310
CREATED:20250203T163722Z
LAST-MODIFIED:20250203T163722Z
UID:6582-1738688400-1738701000@riuess.org
SUMMARY:Les 15 ans de la chaire ESS de Marne la Vallée
DESCRIPTION:Le mardi ‘4 février de 17 heures à 20 heures\, dans le bâtiment Copernic à Champs-sur-Marne\, la chaire ESS de l’Université  Paris Est-Marne la Vallée/Gustave Eiffel fête ses 15 ans \nA cette occasion s’exprimeront l’ensemble des acteurs qui ont durant ces quinze années fait vivre cette Chaire\, mais aussi les étudiants qui ont suivi la licence pro et le master\, et des chercheurs
URL:https://riuess.org/event/les-15-ans-de-la-chaire-ess-de-marne-la-vallee/
LOCATION:Université Gustave Eiffel\, Campus Descartes\, Champs sur Marne\, 77083\, France
ATTACH;FMTTYPE=image/jpeg:https://riuess.org/riuess2/wp-content/uploads/2019/10/chaire-ess.jpg
END:VEVENT
BEGIN:VEVENT
DTSTART;TZID=Europe/Paris:20250207T130000
DTEND;TZID=Europe/Paris:20250207T160000
DTSTAMP:20260421T025310
CREATED:20250119T184156Z
LAST-MODIFIED:20250119T184156Z
UID:6560-1738933200-1738944000@riuess.org
SUMMARY:Séminaire acteur-chercheur de l'IR2RT le 7 février 2025 à Villeneuve d'Ascq
DESCRIPTION:Le 7 février 2025\, de 13h à 16h\, l’Institut Fédératif de Recherche sur le Renouveau des Territoires (IF2RT-MESHS) et la Chaire SEC (Socio-économie des Communs) vous invitent à un après-midi d’études sur le rôle des sciences dans l’action publique à l’Université de Lille\, sur le Campus Cité Scientifique à Villeneuve d’Ascq (bâtiment SH2\, salle du conseil). \nCet après-midi sera consacré à la contribution de la science à l’action publique avec une présentation de l’IF2RT et ses modalités d’actions en première partie. Puis en deuxième partie d’après-midi\, nous reviendrons sur plusieurs exemples concrets (Appel à Projets\, projets tutorés…) de collaborations autour d’un enjeu central : l’alimentation dans le Bassin minier du Nord – Pas de Calais.\n13h00 – 13h15 : Accueil \n13h15 – 14h00 : L’Institut Fédératif de Recherche sur le Renouveau des Territoires (IF2RT) : une structure à la croisée de la recherche et de l’action publique territorialisée \nAvec Mélanie Delots (SGAR Hauts-de-France)\, Juline Laquay (IF2RT – MESHS) et Richard Sobel (Université de Lille)\n14h00 – 16h00 : Sollicitations d’acteurs publics pour des projets de recherche autour de l’alimentation : exemples de collaboration \n\n14h00 – 14h30 : Le non-recours au dispositif de lutte contre la précarité alimentaire dans la ville de Lomme\nAvec Cassandra Niclot et Adèle Pichot (Université de Lille) – Discutante : Anne-Laure Blaise (Ville de Lomme)\n14h50 – 15h00 : Étude sur les Programmes Alimentaires Territoriaux (PAT) du Bassin minier \nAvec Côme Rojas (CLERSE – Université de Lille)\n15h00 -15h30 : Présentation du projet «  Protection sociale de l’alimentation et transitions écologique et sociale » (Patés)\nAvec Cécile Vasseur (CLERSE – Université de Lille) et Ilona Delouette (IMT Nord Europe)\n15h30 -16h00 : Présentation du projet « Expérimenter pour l’accès à une alimentation de qualité dans le bassin minier » (ExAAlim)\nAvec Pierre Robert (CLERSE – Université de Lille
URL:https://riuess.org/event/seminaire-acteur-chercheur-de-lir2rt-le-7-fevrier-2025-a-villeneuve-dascq/
LOCATION:Salle du Conseil\, Bâtiment SH2 | Campus Cité Scientifique\,\, Villeneuve d'Ascq
ATTACH;FMTTYPE=image/png:https://riuess.org/riuess2/wp-content/uploads/2025/01/if2rt-blanc.png
END:VEVENT
END:VCALENDAR