BEGIN:VCALENDAR
VERSION:2.0
PRODID:-//RIUESS - ECPv6.15.13//NONSGML v1.0//EN
CALSCALE:GREGORIAN
METHOD:PUBLISH
X-WR-CALNAME:RIUESS
X-ORIGINAL-URL:https://riuess.org
X-WR-CALDESC:Évènements pour RIUESS
REFRESH-INTERVAL;VALUE=DURATION:PT1H
X-Robots-Tag:noindex
X-PUBLISHED-TTL:PT1H
BEGIN:VTIMEZONE
TZID:Europe/Paris
BEGIN:DAYLIGHT
TZOFFSETFROM:+0100
TZOFFSETTO:+0200
TZNAME:CEST
DTSTART:20240331T010000
END:DAYLIGHT
BEGIN:STANDARD
TZOFFSETFROM:+0200
TZOFFSETTO:+0100
TZNAME:CET
DTSTART:20241027T010000
END:STANDARD
BEGIN:DAYLIGHT
TZOFFSETFROM:+0100
TZOFFSETTO:+0200
TZNAME:CEST
DTSTART:20250330T010000
END:DAYLIGHT
BEGIN:STANDARD
TZOFFSETFROM:+0200
TZOFFSETTO:+0100
TZNAME:CET
DTSTART:20251026T010000
END:STANDARD
BEGIN:DAYLIGHT
TZOFFSETFROM:+0100
TZOFFSETTO:+0200
TZNAME:CEST
DTSTART:20260329T010000
END:DAYLIGHT
BEGIN:STANDARD
TZOFFSETFROM:+0200
TZOFFSETTO:+0100
TZNAME:CET
DTSTART:20261025T010000
END:STANDARD
END:VTIMEZONE
BEGIN:VEVENT
DTSTART;VALUE=DATE:20250101
DTEND;VALUE=DATE:20260101
DTSTAMP:20260421T045013
CREATED:20231201T200237Z
LAST-MODIFIED:20231201T200237Z
UID:6015-1735689600-1767225599@riuess.org
SUMMARY:2025 Année Internationale des Coopératives
DESCRIPTION:
URL:https://riuess.org/event/2025-annee-internationale-des-cooperatives/
END:VEVENT
BEGIN:VEVENT
DTSTART;TZID=Europe/Paris:20250115T000000
DTEND;TZID=Europe/Paris:20250115T233000
DTSTAMP:20260421T045013
CREATED:20241211T183205Z
LAST-MODIFIED:20241211T183205Z
UID:6507-1736899200-1736983800@riuess.org
SUMMARY:Date limite pour les propositions de communication au séminaire Économie sociale et colonialisme : 15 janvier 2025
DESCRIPTION:Le CEDIAS\, Centre d’études\, de documentation\, d’information et d’action sociales\, prépare un nouveau cycle de séminaires en 2025 pour encourager le développement de la recherche sur l’histoire de l’ESS\, dans une perspective internationale et interdisciplinaire. \nSon séminaire 2025 portera sur Économie sociale et colonialisme présenté ici \nLes propositions sont a formuler pour le 15 janvier 2025 \nLes propositions de communication devront être adressées aux organisateurs du séminaire : \n\nmichel.jacques.dreyfus@gmail.com\nantony.kitts@laposte.net\n\nIl est attendu des contributeurs qu’ils adressent un résumé de 5000 signes maximum comprenant : \n\nla problématique\,\nla méthodologie\n5 références bibliographiques maximum\nune présentation de quelques lignes de l’auteur.\n\nLes résumés comme les communications pourront être faits en français ou en anglais. Les séances de séminaire sont prévues en présentiel ou visioconférence d’une durée de 2 à 3 heures maximum incluant 1 ou 2 communications selon les thèmes abordés. Des documents pourront être mis à dispositions.
URL:https://riuess.org/event/date-limite-pour-les-propositions-de-communication-au-seminaire-economie-sociale-et-colonialisme-15-janvier-2025/
ATTACH;FMTTYPE=image/jpeg:https://riuess.org/riuess2/wp-content/uploads/2019/12/cedias.jpg
END:VEVENT
BEGIN:VEVENT
DTSTART;VALUE=DATE:20250116
DTEND;VALUE=DATE:20250117
DTSTAMP:20260421T045013
CREATED:20241127T174238Z
LAST-MODIFIED:20241127T174238Z
UID:6461-1736985600-1737071999@riuess.org
SUMMARY:Rencontres du Mont-Blanc le 16 janvier 2025 à Genève
DESCRIPTION:Les Rencontres du Mont-Blanc (RMB) sont de retour le 16 janvier 2025 à Genève au siège du BIT ! \nLe Forum International de l’ESS renoue avec l’ADN des Rencontres du Mont-Blanc originelles\, dont nous fêtons les 20 ans\, à savoir un lieu d’échanges et de partage entre le mouvement des entreprises de l’ESS\, les grandes institutions internationales et la société civile pour répondre aux grands défis actuels. \nRendez-vous le 16 janvier 2025 à Genève pour une journée de rencontres et de débats autour de 2 panels sur le financement de l’ESS et les liens entre RSE et ESS avec des invités exceptionnels tels que Nicolas Schmit et bien d’autres.
URL:https://riuess.org/event/rencontres-du-mont-blanc-le-16-janvier-2025-a-geneve/
LOCATION:OIT Genève\, Genève\, Suisse
ATTACH;FMTTYPE=image/png:https://riuess.org/riuess2/wp-content/uploads/2024/11/mont-blanc-2025.png
END:VEVENT
BEGIN:VEVENT
DTSTART;TZID=Europe/Paris:20250121T180000
DTEND;TZID=Europe/Paris:20250121T200000
DTSTAMP:20260421T045013
CREATED:20240905T163013Z
LAST-MODIFIED:20240905T163013Z
UID:6375-1737482400-1737489600@riuess.org
SUMMARY:Mardi de la chaire ESS de Lyon : L'alimentation\, nouveau champ de la protection sociale ? le 21 janvier 2025
DESCRIPTION:La Chaire ESS de l’Université Louis Lumière Lyon 2 consacre un Mardi de l’ESS à L’alimentation\, nouveau champ de la protection sociale ? le 21 janvier 2025 au Palais du Travail de Villeurbanne \nCe mardi de l’ESS s’inscrit dans le paradigme de la protection sociale dans un contexte de transition socio-écologique\, qui questionne les contributions de la protection sociale pour\naccompagner les transformations des modes de production et de consommation. \nDans cette perspective\, l’alimentation apparaît comme un des risques sociaux sur lesquels agir\, mais le paysage d’une Protection Sociale Alimentaire reste pluriel (en termes d’acteurs\, de\ndispositifs\, de représentations\, etc.). \nLe projet de Sécurité Sociale de l’Alimentation\, porté depuis 2019 par un collectif national et par une quarantaine d’initiatives en France porte un potentiel de transformation du système\nalimentaire\, mais aussi de renouveau du modèle mutualiste
URL:https://riuess.org/event/mardi-de-la-chaire-ess-de-lyon-lalimentation-nouveau-champ-de-la-protection-sociale-le-21-janvier-2025/
LOCATION:Palais du Travail de Villeurbanne\, France
ATTACH;FMTTYPE=image/png:https://riuess.org/riuess2/wp-content/uploads/2019/03/univ-lyon2.png
END:VEVENT
BEGIN:VEVENT
DTSTART;TZID=Europe/Paris:20250123T180000
DTEND;TZID=Europe/Paris:20250123T193000
DTSTAMP:20260421T045013
CREATED:20250111T161620Z
LAST-MODIFIED:20250111T161620Z
UID:6541-1737655200-1737660600@riuess.org
SUMMARY:Rendez-vous de la transition territoriale "Hybrider nos usages\, le partage des infrastructures sociales" le 23 janvier 2025 en ligne
DESCRIPTION:La Chaire Territoires en Transition de Grenoble École de Management  a publié un livre blanc dédié à la thématique du partage des espaces « Partager les infrastructures sociales. Comment ouvrir un espace à des usages pluriels ? ». \nLocaux d’entreprises\, bibliothèques\, piscines\, gares\, écoles… Ces « infrastructures » au sens d’équipements structurants d’une société font face à des enjeux d’hybridation dans leurs usages. Au regard des enjeux d’efficacité économiques et écologiques des territoires\, des formes innovantes de partage se développent. Quelles sont les motivations et incitations au partage d’infrastructures ? Quelles sont les modalités pratiques du partage d’infrastructures ? Quelle est la gouvernance de ces infrastructures partagées ? \nCes questions seront abordées lors d’un RDV en ligne à travers la présentation\, de témoignages et retours d’expérience  à destination de toutes personnes intéressées par ces enjeux le 23 Janvier prochain\, de 18h à 19h30 \nAvec les témoignages de \n\nBenoît MEYRONIN\, Directeur général associé\, Korus Group Consulting\nJérôme TRIAUD\, Directeur Avignon Bibliothèques\, Ville d’Avignon\n\nMélissa PEBRE\, coordinatrice tiers-lieu pour l’EHPAD La Seigneurie\n\n\nEt de l’équipe de recherche de la chaire Territoires en transition – GEM\n\n\nPour s’inscrire\, c’est ici
URL:https://riuess.org/event/rendez-vous-de-la-transition-territoriale-hybrider-nos-usages-le-partage-des-infrastructures-sociales-le-23-janvier-2025-en-ligne/
LOCATION:Webinaire
ATTACH;FMTTYPE=image/png:https://riuess.org/riuess2/wp-content/uploads/2025/01/grenoble-management-1.png
END:VEVENT
BEGIN:VEVENT
DTSTART;TZID=Europe/Paris:20250131T000000
DTEND;TZID=Europe/Paris:20250131T233000
DTSTAMP:20260421T045013
CREATED:20241127T185110Z
LAST-MODIFIED:20241127T185110Z
UID:6482-1738281600-1738366200@riuess.org
SUMMARY:Savoirs de la marge\, savoirs marginaux ? Appel à communications pour le 31 janvier 2025
DESCRIPTION:L’étude des savoirs économiques et de leur influence politique s’est largement attachée à des lieux de pouvoir centraux ainsi qu’à ceux de leur production universitaire. Le colloque entend compléter cette perspective en s’intéressant aux savoirs économiques marginalisés et aux ressorts de leur (dé-)marginalisation. Le développement de théories et de pratiques économiques profanes ou reléguées y sera notamment interrogé à l’aune de leurs logiques de légitimation\, des acteurs\, lieux et actions qui les engendrent\, et de leur relative autonomie. Le colloque sera centré sur le long XXe siècle et ouvert à des propositions issues de toutes les disciplines des sciences humaines et sociales. \nPlus d’infos ici \nLes propositions de communications (max. 500 mots en fichier Word) comprenant un titre\, une problématique explicite\, une bibliographie (max. 5 références)\, une courte note bio-bibliographique (max. 15 lignes) à simon.godard@iepg.fr doivent être soumises avant le 31 janvier 2025.  \nLa langue de travail de la conférence est l’anglais. Les propositions doivent être soumises dans cette langue.
URL:https://riuess.org/event/savoirs-de-la-marge-savoirs-marginaux-appel-a-communications-pour-le-31-janvier-2025/
ATTACH;FMTTYPE=image/png:https://riuess.org/riuess2/wp-content/uploads/2019/03/sciences-po-grenoble.png
END:VEVENT
END:VCALENDAR